BEGIN:VCALENDAR
VERSION:2.0
PRODID:-//Dawn Patrol - ECPv6.15.20//NONSGML v1.0//EN
CALSCALE:GREGORIAN
METHOD:PUBLISH
X-WR-CALNAME:Dawn Patrol
X-ORIGINAL-URL:https://dawnpatrolgolf.co.uk
X-WR-CALDESC:Events for Dawn Patrol
REFRESH-INTERVAL;VALUE=DURATION:PT1H
X-Robots-Tag:noindex
X-PUBLISHED-TTL:PT1H
BEGIN:VTIMEZONE
TZID:Europe/Paris
BEGIN:DAYLIGHT
TZOFFSETFROM:+0100
TZOFFSETTO:+0200
TZNAME:CEST
DTSTART:20220327T010000
END:DAYLIGHT
BEGIN:STANDARD
TZOFFSETFROM:+0200
TZOFFSETTO:+0100
TZNAME:CET
DTSTART:20221030T010000
END:STANDARD
BEGIN:DAYLIGHT
TZOFFSETFROM:+0100
TZOFFSETTO:+0200
TZNAME:CEST
DTSTART:20230326T010000
END:DAYLIGHT
BEGIN:STANDARD
TZOFFSETFROM:+0200
TZOFFSETTO:+0100
TZNAME:CET
DTSTART:20231029T010000
END:STANDARD
BEGIN:DAYLIGHT
TZOFFSETFROM:+0100
TZOFFSETTO:+0200
TZNAME:CEST
DTSTART:20240331T010000
END:DAYLIGHT
BEGIN:STANDARD
TZOFFSETFROM:+0200
TZOFFSETTO:+0100
TZNAME:CET
DTSTART:20241027T010000
END:STANDARD
BEGIN:DAYLIGHT
TZOFFSETFROM:+0100
TZOFFSETTO:+0200
TZNAME:CEST
DTSTART:20250330T010000
END:DAYLIGHT
BEGIN:STANDARD
TZOFFSETFROM:+0200
TZOFFSETTO:+0100
TZNAME:CET
DTSTART:20251026T010000
END:STANDARD
END:VTIMEZONE
BEGIN:VTIMEZONE
TZID:UTC
BEGIN:STANDARD
TZOFFSETFROM:+0000
TZOFFSETTO:+0000
TZNAME:UTC
DTSTART:20220101T000000
END:STANDARD
END:VTIMEZONE
BEGIN:VEVENT
DTSTART;TZID=Europe/Paris:20241123T193000
DTEND;TZID=Europe/Paris:20241123T220000
DTSTAMP:20260423T104035
CREATED:20231211T160953Z
LAST-MODIFIED:20231211T160953Z
UID:2205-1732390200-1732399200@dawnpatrolgolf.co.uk
SUMMARY:Social Event - Queen/Freddie Mercury Tribute
DESCRIPTION:
URL:https://dawnpatrolgolf.co.uk/event/social-event-queen-freddie-mercury-tribute/
CATEGORIES:Social Event
ATTACH;FMTTYPE=image/png:https://dawnpatrolgolf.co.uk/wp-content/uploads/2023/12/Events-2024.png
END:VEVENT
BEGIN:VEVENT
DTSTART;TZID=Europe/Paris:20240907T193000
DTEND;TZID=Europe/Paris:20240907T220000
DTSTAMP:20260423T104035
CREATED:20231211T160751Z
LAST-MODIFIED:20231211T160751Z
UID:2203-1725737400-1725746400@dawnpatrolgolf.co.uk
SUMMARY:Social Event - Kingsfest
DESCRIPTION:
URL:https://dawnpatrolgolf.co.uk/event/social-event-kingsfest/
CATEGORIES:Social Event
ATTACH;FMTTYPE=image/png:https://dawnpatrolgolf.co.uk/wp-content/uploads/2023/12/Events-2024.png
END:VEVENT
BEGIN:VEVENT
DTSTART;TZID=Europe/Paris:20240706T193000
DTEND;TZID=Europe/Paris:20240706T220000
DTSTAMP:20260423T104035
CREATED:20231211T160516Z
LAST-MODIFIED:20231211T160552Z
UID:2201-1720294200-1720303200@dawnpatrolgolf.co.uk
SUMMARY:Social Event - Tina Turner Tribute
DESCRIPTION:
URL:https://dawnpatrolgolf.co.uk/event/social-event-tina-turner-tribute/
CATEGORIES:Social Event
ATTACH;FMTTYPE=image/png:https://dawnpatrolgolf.co.uk/wp-content/uploads/2023/12/Events-2024.png
END:VEVENT
BEGIN:VEVENT
DTSTART;TZID=UTC:20240626T050000
DTEND;TZID=UTC:20240626T090000
DTSTAMP:20260423T104035
CREATED:20240311T162157Z
LAST-MODIFIED:20240311T170459Z
UID:2901-1719378000-1719392400@dawnpatrolgolf.co.uk
SUMMARY:Seniors Dawn Chorus
DESCRIPTION:
URL:https://dawnpatrolgolf.co.uk/event/seniors-dawn-chorus/
CATEGORIES:Competition
ATTACH;FMTTYPE=image/jpeg:https://dawnpatrolgolf.co.uk/wp-content/uploads/2023/10/General-Golf-scaled.jpg
END:VEVENT
BEGIN:VEVENT
DTSTART;TZID=Europe/Paris:20240605T080000
DTEND;TZID=Europe/Paris:20240605T170000
DTSTAMP:20260423T104035
CREATED:20240118T145622Z
LAST-MODIFIED:20240118T145822Z
UID:2506-1717574400-1717606800@dawnpatrolgolf.co.uk
SUMMARY:Seniors Open
DESCRIPTION:
URL:https://dawnpatrolgolf.co.uk/event/seniors-open/
CATEGORIES:Competition
ATTACH;FMTTYPE=image/jpeg:https://dawnpatrolgolf.co.uk/wp-content/uploads/2023/10/General-Golf-scaled.jpg
END:VEVENT
BEGIN:VEVENT
DTSTART;TZID=UTC:20240531T080000
DTEND;TZID=UTC:20240531T170000
DTSTAMP:20260423T104035
CREATED:20240311T162052Z
LAST-MODIFIED:20240311T162521Z
UID:2899-1717142400-1717174800@dawnpatrolgolf.co.uk
SUMMARY:Seniors May Medal
DESCRIPTION:
URL:https://dawnpatrolgolf.co.uk/event/seniors-may-medal/
CATEGORIES:Competition
ATTACH;FMTTYPE=image/jpeg:https://dawnpatrolgolf.co.uk/wp-content/uploads/2023/10/General-Golf-scaled.jpg
END:VEVENT
BEGIN:VEVENT
DTSTART;TZID=Europe/Paris:20240510T080000
DTEND;TZID=Europe/Paris:20240510T170000
DTSTAMP:20260423T104035
CREATED:20240119T091149Z
LAST-MODIFIED:20240311T162937Z
UID:2538-1715328000-1715360400@dawnpatrolgolf.co.uk
SUMMARY:JC Trophy (John Cowie) followed by a snack
DESCRIPTION:A date for the diary\, we have provisionally organised the JC (John Cowie) Trophy for Friday 10th May with a snack afterwards. \nFor those unfamiliar with John\, he was among the founding members of the Dawn Patrol\, characterised by a terrific sense of humour and wit. He was our original compere for the DP Xmas meal and started the whole idea of issuing presents to those unfortunates to be in his firing line. His wife\, Kathleen usually honours us with her presence and awards presents the trophy to the winner. Last year it went to Alex Fogwill. \nAll DP Members are invited to play\, whether you knew John or not and the list will be posted on Notice Board nearer the time.
URL:https://dawnpatrolgolf.co.uk/event/jc-trophy-john-cowie-followed-by-a-snack/
CATEGORIES:Competition,Social Event
ATTACH;FMTTYPE=image/jpeg:https://dawnpatrolgolf.co.uk/wp-content/uploads/2023/10/General-Golf-scaled.jpg
END:VEVENT
BEGIN:VEVENT
DTSTART;TZID=UTC:20240508T080000
DTEND;TZID=UTC:20240508T170000
DTSTAMP:20260423T104035
CREATED:20240311T161946Z
LAST-MODIFIED:20240311T162458Z
UID:2897-1715155200-1715187600@dawnpatrolgolf.co.uk
SUMMARY:Seniors Nine Hole Qualifier
DESCRIPTION:
URL:https://dawnpatrolgolf.co.uk/event/seniors-nine-hole-qualifier/
CATEGORIES:Competition
ATTACH;FMTTYPE=image/jpeg:https://dawnpatrolgolf.co.uk/wp-content/uploads/2023/10/General-Golf-scaled.jpg
END:VEVENT
BEGIN:VEVENT
DTSTART;TZID=Europe/Paris:20240427T193000
DTEND;TZID=Europe/Paris:20240427T220000
DTSTAMP:20260423T104035
CREATED:20231211T155730Z
LAST-MODIFIED:20231211T160615Z
UID:2193-1714246200-1714255200@dawnpatrolgolf.co.uk
SUMMARY:Social Event - Corinthian Casuals
DESCRIPTION:
URL:https://dawnpatrolgolf.co.uk/event/social-event-spanish-evening/
LOCATION:Kingsdown\, Corsham\, SN13 8BS\, United Kingdom
CATEGORIES:Social Event
ATTACH;FMTTYPE=image/png:https://dawnpatrolgolf.co.uk/wp-content/uploads/2023/12/Events-2024.png
END:VEVENT
BEGIN:VEVENT
DTSTART;TZID=Europe/Paris:20240417T080000
DTEND;TZID=Europe/Paris:20240417T170000
DTSTAMP:20260423T104035
CREATED:20240405T180217Z
LAST-MODIFIED:20240405T180217Z
UID:3109-1713340800-1713373200@dawnpatrolgolf.co.uk
SUMMARY:Kingsdown Closed due to Men's Jack Lawrence Seniors Scratch
DESCRIPTION:
URL:https://dawnpatrolgolf.co.uk/event/kingsdown-closed-due-to-mens-jack-lawrence-seniors-scratch/
ATTACH;FMTTYPE=image/jpeg:https://dawnpatrolgolf.co.uk/wp-content/uploads/2024/04/Course-Closed.jpg
END:VEVENT
BEGIN:VEVENT
DTSTART;TZID=Europe/Paris:20240410T190000
DTEND;TZID=Europe/Paris:20240410T223000
DTSTAMP:20260423T104035
CREATED:20231230T134754Z
LAST-MODIFIED:20240216T135335Z
UID:2425-1712775600-1712788200@dawnpatrolgolf.co.uk
SUMMARY:Dawn Patrol Curry Night - Bengal Bear (Postponed - Date to be confirmed in April)
DESCRIPTION:
URL:https://dawnpatrolgolf.co.uk/event/dawn-patrol-curry-night-bengal-bear/
LOCATION:Bengal Bear\, Box\, 1 High Street\, Box\, SN13 8NJ\, United Kingdom
ATTACH;FMTTYPE=image/png:https://dawnpatrolgolf.co.uk/wp-content/uploads/2023/12/Bengal-Bear-Box.png
END:VEVENT
BEGIN:VEVENT
DTSTART;VALUE=DATE:20240410
DTEND;VALUE=DATE:20240411
DTSTAMP:20260423T104035
CREATED:20240311T161810Z
LAST-MODIFIED:20240407T073809Z
UID:2895-1712707200-1712793599@dawnpatrolgolf.co.uk
SUMMARY:Ron Ron & Syd Davies competitions commence
DESCRIPTION:
URL:https://dawnpatrolgolf.co.uk/event/ron-ron-syd-davies-competitions-commence/
CATEGORIES:Note
ATTACH;FMTTYPE=image/jpeg:https://dawnpatrolgolf.co.uk/wp-content/uploads/2016/10/blog-04.jpg
END:VEVENT
BEGIN:VEVENT
DTSTART;VALUE=DATE:20240408
DTEND;VALUE=DATE:20240409
DTSTAMP:20260423T104035
CREATED:20240311T161650Z
LAST-MODIFIED:20240405T175232Z
UID:2893-1712534400-1712620799@dawnpatrolgolf.co.uk
SUMMARY:Draw made for Ron Ron & Syd Davies Close
DESCRIPTION:
URL:https://dawnpatrolgolf.co.uk/event/draw-made-for-ron-ron-syd-davies-close/
CATEGORIES:Note
ATTACH;FMTTYPE=image/jpeg:https://dawnpatrolgolf.co.uk/wp-content/uploads/2016/10/blog-04.jpg
END:VEVENT
BEGIN:VEVENT
DTSTART;VALUE=DATE:20240408
DTEND;VALUE=DATE:20240409
DTSTAMP:20260423T104035
CREATED:20240311T161540Z
LAST-MODIFIED:20240405T174936Z
UID:2891-1712534400-1712620799@dawnpatrolgolf.co.uk
SUMMARY:Entries close for Ron Ron & Syd Davies
DESCRIPTION:
URL:https://dawnpatrolgolf.co.uk/event/entries-close-for-ron-ron-syd-davies/
CATEGORIES:Note
ATTACH;FMTTYPE=image/jpeg:https://dawnpatrolgolf.co.uk/wp-content/uploads/2016/10/blog-04.jpg
END:VEVENT
BEGIN:VEVENT
DTSTART;TZID=UTC:20240322T080000
DTEND;TZID=UTC:20240322T170000
DTSTAMP:20260423T104035
CREATED:20240311T161317Z
LAST-MODIFIED:20240311T162247Z
UID:2889-1711094400-1711126800@dawnpatrolgolf.co.uk
SUMMARY:Seniors Sloper Trophy (Qualifier)
DESCRIPTION:
URL:https://dawnpatrolgolf.co.uk/event/seniors-sloper-trophy-qualifier/
CATEGORIES:Competition
ATTACH;FMTTYPE=image/jpeg:https://dawnpatrolgolf.co.uk/wp-content/uploads/2023/10/General-Golf-scaled.jpg
END:VEVENT
BEGIN:VEVENT
DTSTART;TZID=Europe/Paris:20240318T080000
DTEND;TZID=Europe/Paris:20240318T170000
DTSTAMP:20260423T104035
CREATED:20240118T150743Z
LAST-MODIFIED:20240118T150743Z
UID:2519-1710748800-1710781200@dawnpatrolgolf.co.uk
SUMMARY:Seniors Winter Wind Up (Qualifier)
DESCRIPTION:
URL:https://dawnpatrolgolf.co.uk/event/seniors-winter-wind-up-qualifier/
ATTACH;FMTTYPE=image/jpeg:https://dawnpatrolgolf.co.uk/wp-content/uploads/2023/10/General-Golf-scaled.jpg
END:VEVENT
BEGIN:VEVENT
DTSTART;TZID=Europe/Paris:20240311T080000
DTEND;TZID=Europe/Paris:20240311T170000
DTSTAMP:20260423T104035
CREATED:20240118T150543Z
LAST-MODIFIED:20240118T150543Z
UID:2516-1710144000-1710176400@dawnpatrolgolf.co.uk
SUMMARY:Seniors Leon Butler 3 Club Challenge
DESCRIPTION:
URL:https://dawnpatrolgolf.co.uk/event/seniors-leon-butler-3-club-challenge/
ATTACH;FMTTYPE=image/jpeg:https://dawnpatrolgolf.co.uk/wp-content/uploads/2023/10/General-Golf-scaled.jpg
END:VEVENT
BEGIN:VEVENT
DTSTART;TZID=Europe/Paris:20240222T180000
DTEND;TZID=Europe/Paris:20240222T210000
DTSTAMP:20260423T104035
CREATED:20240118T150353Z
LAST-MODIFIED:20240118T150353Z
UID:2513-1708624800-1708635600@dawnpatrolgolf.co.uk
SUMMARY:Seniors AGM and dinner
DESCRIPTION:
URL:https://dawnpatrolgolf.co.uk/event/seniors-agm-and-dinner/
ATTACH;FMTTYPE=image/jpeg:https://dawnpatrolgolf.co.uk/wp-content/uploads/2023/06/DP2.jpg
END:VEVENT
BEGIN:VEVENT
DTSTART;TZID=Europe/Paris:20240222T110000
DTEND;TZID=Europe/Paris:20240222T170000
DTSTAMP:20260423T104035
CREATED:20240118T150148Z
LAST-MODIFIED:20240118T150148Z
UID:2511-1708599600-1708621200@dawnpatrolgolf.co.uk
SUMMARY:Seniors Slope Trophy (Qualifier)
DESCRIPTION:
URL:https://dawnpatrolgolf.co.uk/event/seniors-slope-trophy-qualifier/
ATTACH;FMTTYPE=image/jpeg:https://dawnpatrolgolf.co.uk/wp-content/uploads/2023/10/General-Golf-scaled.jpg
END:VEVENT
BEGIN:VEVENT
DTSTART;TZID=Europe/Paris:20240212T080000
DTEND;TZID=Europe/Paris:20240212T170000
DTSTAMP:20260423T104035
CREATED:20240118T150032Z
LAST-MODIFIED:20240118T150032Z
UID:2509-1707724800-1707757200@dawnpatrolgolf.co.uk
SUMMARY:Seniors Valentine Bowmaker (Team Event)
DESCRIPTION:
URL:https://dawnpatrolgolf.co.uk/event/seniors-valentine-bowmaker-team-event/
ATTACH;FMTTYPE=image/jpeg:https://dawnpatrolgolf.co.uk/wp-content/uploads/2023/10/General-Golf-scaled.jpg
END:VEVENT
BEGIN:VEVENT
DTSTART;TZID=Europe/Paris:20240205T080000
DTEND;TZID=Europe/Paris:20240205T170000
DTSTAMP:20260423T104035
CREATED:20240118T151625Z
LAST-MODIFIED:20240118T151625Z
UID:2527-1707120000-1707152400@dawnpatrolgolf.co.uk
SUMMARY:Seniors Cliff Rogers (Last One)
DESCRIPTION:
URL:https://dawnpatrolgolf.co.uk/event/seniors-cliff-rogers-last-one/
ATTACH;FMTTYPE=image/jpeg:https://dawnpatrolgolf.co.uk/wp-content/uploads/2023/10/General-Golf-scaled.jpg
END:VEVENT
BEGIN:VEVENT
DTSTART;TZID=Europe/Paris:20240203T193000
DTEND;TZID=Europe/Paris:20240203T220000
DTSTAMP:20260423T104035
CREATED:20231211T160010Z
LAST-MODIFIED:20231211T160809Z
UID:2197-1706988600-1706997600@dawnpatrolgolf.co.uk
SUMMARY:Social Event - Rock Stewart
DESCRIPTION:
URL:https://dawnpatrolgolf.co.uk/event/social-event-rock-stewart/
CATEGORIES:Social Event
ATTACH;FMTTYPE=image/png:https://dawnpatrolgolf.co.uk/wp-content/uploads/2023/12/Events-2024.png
END:VEVENT
BEGIN:VEVENT
DTSTART;TZID=Europe/Paris:20240131T190000
DTEND;TZID=Europe/Paris:20240131T220000
DTSTAMP:20260423T104035
CREATED:20240126T154851Z
LAST-MODIFIED:20240126T154851Z
UID:2579-1706727600-1706738400@dawnpatrolgolf.co.uk
SUMMARY:Kingsdown AGM
DESCRIPTION:
URL:https://dawnpatrolgolf.co.uk/event/kingsdown-agm/
CATEGORIES:General
ATTACH;FMTTYPE=image/jpeg:https://dawnpatrolgolf.co.uk/wp-content/uploads/2023/06/DP2.jpg
END:VEVENT
BEGIN:VEVENT
DTSTART;TZID=UTC:20231222T081200
DTEND;TZID=UTC:20231222T160000
DTSTAMP:20260423T104035
CREATED:20230711T043658Z
LAST-MODIFIED:20231202T180915Z
UID:1337-1703232720-1703260800@dawnpatrolgolf.co.uk
SUMMARY:Dawn Patrol Christmas Comp & Lunch
DESCRIPTION:Update from Kevin 1st December 2023\nHi Guys \nThis morning the draw was conducted for our very own Xmas Comp\, to be played on Friday 22nd December. Here are the 3 balls as drawn: \n8.04am Paul Stephen; Larry St. Croix; Nigel Hodgson \n8.12am Steve Haresnape; Martin Taylor; Tim Tayler \n8.20am Crispin Read; Ken Robinson; Tim Pearce \n8.28am Phil Back; Mick North; Keith Bultitude \n8.36am Rod Bird; Paul Steer; Stuart Clarke \n8.44am Alex Fogwill; Bob Damberg; Arthur Noble \n8.52am Rich Talbot; Charley Gerty; Phil Smith \n9.00am Andy Carnohan; Martin Coles; Alex Annal \n9.08am Ben Taylor; Bob Pippett; Robin Dickinson \n9.16am Tom Roberton; Kevin Wilford; Charles Freeman \n9.24am Darren Buss; Kevin Campbell; Dave New \n9.32am Dev Jathoul; Trevor George; Terry Bishop. \nSince it only gets light around our first tee time\, I am assuming we may struggle to get off any earlier than 8.04am. However if you can be at the club 20-30 minutes before your slot\, we will see if we can “beat the clock” \nIf any of you cannot play\, can you please let Alex or myself know as we have 3 able and willing reserves. \nThe format will be Bowmaker 2 from 3 to count and to include the famous yellow ball (don’t lose it) to count double. \nHandicaps will be restricted to max 28 and playing handicaps will be 90% of club handicap or 28 whichever is the lower. \nThere will also be a couple of nearest the pins and nearest the flag on second shot. \nAs always we are on a tight deadline to get all 36 players round and back in for lunch around 1.30-2pm. Could we please therefore ask all teams to keep up with the group in front. \nMany thanks and enjoy the day \nKevin\, Alex\, Martin and Rod \nChristmas 2022\n        \nPhotos by Larry St Croix
URL:https://dawnpatrolgolf.co.uk/event/dawn-patrol-christmas-comp-christmas-lunch/
LOCATION:Kingsdown\, Corsham\, SN13 8BS\, United Kingdom
CATEGORIES:General
ATTACH;FMTTYPE=image/jpeg:https://dawnpatrolgolf.co.uk/wp-content/uploads/2023/07/Kingsdown-Dec-2022.jpg
ORGANIZER;CN="Kevin Wilford":MAILTO:kevinjwilford@hotmail.com
END:VEVENT
BEGIN:VEVENT
DTSTART;TZID=Europe/Paris:20231215T190000
DTEND;TZID=Europe/Paris:20231215T235900
DTSTAMP:20260423T104035
CREATED:20231008T110205Z
LAST-MODIFIED:20231008T110327Z
UID:1906-1702666800-1702684740@dawnpatrolgolf.co.uk
SUMMARY:Dawn Patrol Christmas Dinner
DESCRIPTION:Dev Jathoul has made an announcement suggesting a revival of the Dawn Patrol Christmas Dinner/Party to include Members\, Wives and Partners. \nThe event will take place on Friday 15 December at the Leigh Park Country House Hotel\, near Bradford-On-Avon from 7:00pm to 12:pm during which a 3-course meal will be served (see attached menu) with entertainment provided at a cost of £42.50 per head with a £10 deposit required per person. \nDetails will be posted on the notice board with a provision to apply your full name plus the full name of anyone who you will be inviting and to select a choice from the menu (starters\, main and dessert). \nPlease inform Dev Jathol or Larry St Croix if there are any special dietary requirements. \nThe hotel has reserved a number of rooms for anyone who wishes to stay over. A special price has been offered of £99.00 per double room with breakfast. \nTo book a room you can contact the hotel direct stating the event ‘Dawn Patrol Christmas Dinner’ alternatively contact Dev Jathol or Larry St Croix to assist. The contact details of the hotel are as follows: \nLeigh Park Country House hotel & Vineyard \nLeigh Road West \nBradford-On-Avon\, \nWiltshire \nBA15 2RA \nTel: 01225 864885 \nIt is hoped that members will support this event which was always very well attended and enjoyed by all. \nFurther notices will be placed on the notice board. \nDev Jathol & Larry St Croix
URL:https://dawnpatrolgolf.co.uk/event/dawn-patrol-christmas-dinner/
CATEGORIES:General
ATTACH;FMTTYPE=image/jpeg:https://dawnpatrolgolf.co.uk/wp-content/uploads/2023/10/Christmas-Dinner-3-1.jpg
END:VEVENT
BEGIN:VEVENT
DTSTART;TZID=Europe/Paris:20231215T084400
DTEND;TZID=Europe/Paris:20231215T143000
DTSTAMP:20260423T104035
CREATED:20231128T142942Z
LAST-MODIFIED:20231128T144227Z
UID:2078-1702629840-1702650600@dawnpatrolgolf.co.uk
SUMMARY:Seniors Christmas Spirit
DESCRIPTION:This year’s Christmas Spirit is scheduled for Friday 15th December. \nA non-qualifying 85% Handicap Stableford Rumble (2 of 3 scores to count) Competition open to entry group All Senior male Members to be played from the Winter Yellow tees.\nAfterwards there will be Mince Pies and Mulled Wine for all\, and the presentation of the prizes. \nTeams of three will be drawn from the entry list\, and will be seeded from low\, middle\, and high handicaps.\nI have placed an entry sheet on the notice board for you to add your names.\nEntry fee is £3/person\, please pay by Bank Transfer or Cash in the competitions box.\nWe are limited to 10 tee times on the day so the first 30 entrants on the list will be entered into the draw any others will be put on a reserves list.
URL:https://dawnpatrolgolf.co.uk/event/seniors-christmas-spirt/
LOCATION:Kingsdown\, Corsham\, SN13 8BS\, United Kingdom
CATEGORIES:Competition
ATTACH;FMTTYPE=image/png:https://dawnpatrolgolf.co.uk/wp-content/uploads/2023/11/Seniors-Christmas-Spirit.png
END:VEVENT
BEGIN:VEVENT
DTSTART;TZID=Europe/Paris:20231103T080000
DTEND;TZID=Europe/Paris:20231103T120000
DTSTAMP:20260423T104035
CREATED:20231019T114750Z
LAST-MODIFIED:20231019T114750Z
UID:1932-1698998400-1699012800@dawnpatrolgolf.co.uk
SUMMARY:Charity Day Friday
DESCRIPTION:Apologies for hijacking the Dawn Patrol on the above date but it’s for a very worthy cause. Wiltshire Air Ambulance.\nI have put up posters in the clubhouse giving full details of the day.\nIf your not able to play on the day. Raffle tickets will be on sale behind the from this Friday. \nMany Thanks\nTom Roberton
URL:https://dawnpatrolgolf.co.uk/event/charity-day-friday/
CATEGORIES:General
ATTACH;FMTTYPE=image/jpeg:https://dawnpatrolgolf.co.uk/wp-content/uploads/2023/10/Wiltshire-Air-Ambulance.jpg
END:VEVENT
BEGIN:VEVENT
DTSTART;TZID=Europe/Paris:20231009T100000
DTEND;TZID=Europe/Paris:20231009T170000
DTSTAMP:20260423T104035
CREATED:20230722T072100Z
LAST-MODIFIED:20230722T074019Z
UID:1525-1696845600-1696870800@dawnpatrolgolf.co.uk
SUMMARY:SENIORS CAPTAIN’s AWAY DAY - Saltford Golf Club
DESCRIPTION:Dear Seniors Member\, \nI write to inform you that this Year’s  \nSENIORS CAPTAIN’s AWAY DAY will take place on \nMONDAY 9th OCTOBER at \nSaltford Golf Club. \n(This is a change of date from that in the Club Diary!) \nThis will be a Four Ball Better Ball format with amazing prizes for the Winners\, both Team and Individual; plus Nearest the Pin; and some special Captains Prizes! \nThe day will start at 10:00 with bacon sandwiches and coffee and then straight onto the Course from the first tee time of 11:00 in groups of four. At the completion of play there will be a meal and a prize giving ceremony.  \nAll of this for just £46:00. \nThe way for you to enter\, without delay\, is to put your name on the sheet in the Clubhouse Changing Room and then deposit the £46:00 into the Seniors Bank Account (details below). You will then be ready and will just need to await the draw and the final details! \nThis will be a great day out to celebrate Shanes Captaincy. Those of you that have played at Saltford will appreciate what a quality course and clubhouse it is! \nI look forward to seeing you all there! \nYours in Golf\, \nColin Simmonds \nKingsdown Seniors Vice Captain 2023
URL:https://dawnpatrolgolf.co.uk/event/seniors-captains-away-day-saltford-golf-club/
LOCATION:Saltford Golf Club\, Saltford\, Bristol\, BS31 3AA\, United Kingdom
CATEGORIES:Away Day
ATTACH;FMTTYPE=image/jpeg:https://dawnpatrolgolf.co.uk/wp-content/uploads/2023/07/SaltFord-Golf-Club-3.jpg
END:VEVENT
BEGIN:VEVENT
DTSTART;TZID=UTC:20230818T080000
DTEND;TZID=UTC:20230818T170000
DTSTAMP:20260423T104035
CREATED:20230715T122315Z
LAST-MODIFIED:20230715T122315Z
UID:1426-1692345600-1692378000@dawnpatrolgolf.co.uk
SUMMARY:S.O.S Kit Aid Day - Course closed during DP playing time
DESCRIPTION:Friday 18th August is Kit Aid Day and the Kingsdown course will be closed during our normal playing times. I would advise that DP members might want to consider booking reciprocal courses for that day. \nSteve H
URL:https://dawnpatrolgolf.co.uk/event/s-o-s-kit-aid-day-course-closed-during-dp-playing-time/
LOCATION:Kingsdown\, Corsham\, SN13 8BS\, United Kingdom
CATEGORIES:General
ATTACH;FMTTYPE=image/jpeg:https://dawnpatrolgolf.co.uk/wp-content/uploads/2023/07/Course-Main-scaled.jpg
END:VEVENT
BEGIN:VEVENT
DTSTART;TZID=UTC:20230728T090000
DTEND;TZID=UTC:20230728T130000
DTSTAMP:20260423T104035
CREATED:20230709T082437Z
LAST-MODIFIED:20230721T163147Z
UID:1303-1690534800-1690549200@dawnpatrolgolf.co.uk
SUMMARY:Ryder Cup Singles DP against the Saga Louts
DESCRIPTION:Dawn Patrol Ryder Cup Singles\n09.00 No. 1 Martin Taylor \n09:00 No. 2 Charley Gerty \n09.08 No. 3 Andy Carnohan \n09.08 No. 4 Rich Talbot \n09.16 No. 5 Alex Fogwill \n09.16 No. 6 Kevin Wilford \n09.24 No. 7 Tom Roberton \n09.24 No. 8 Ian Pearce \n09.32 No. 9   Jamie Kyd \n09.32 No. 10 Phil Back \n09.40 No. 11 Dev Jathoul \n09.40 No. 12 Arthur Noble \nCompetiton Rules\nWhite tees and 100% of Club Handicap \nFollowed by sandwiches a beer and Ryder Cup trophy presentation to winning team.\nAll welcome to join.
URL:https://dawnpatrolgolf.co.uk/event/ryder-cup-singles-dp-against-the-saga-louts/
LOCATION:Kingsdown\, Corsham\, SN13 8BS\, United Kingdom
CATEGORIES:Ryder Cup
ATTACH;FMTTYPE=image/jpeg:https://dawnpatrolgolf.co.uk/wp-content/uploads/2023/07/Golf-scene.jpg
ORGANIZER;CN="Kevin Wilford":MAILTO:kevinjwilford@hotmail.com
END:VEVENT
END:VCALENDAR