BEGIN:VCALENDAR
VERSION:2.0
PRODID:-//Dawn Patrol - ECPv6.15.20//NONSGML v1.0//EN
CALSCALE:GREGORIAN
METHOD:PUBLISH
X-WR-CALNAME:Dawn Patrol
X-ORIGINAL-URL:https://dawnpatrolgolf.co.uk
X-WR-CALDESC:Events for Dawn Patrol
REFRESH-INTERVAL;VALUE=DURATION:PT1H
X-Robots-Tag:noindex
X-PUBLISHED-TTL:PT1H
BEGIN:VTIMEZONE
TZID:Europe/Paris
BEGIN:DAYLIGHT
TZOFFSETFROM:+0100
TZOFFSETTO:+0200
TZNAME:CEST
DTSTART:20220327T010000
END:DAYLIGHT
BEGIN:STANDARD
TZOFFSETFROM:+0200
TZOFFSETTO:+0100
TZNAME:CET
DTSTART:20221030T010000
END:STANDARD
BEGIN:DAYLIGHT
TZOFFSETFROM:+0100
TZOFFSETTO:+0200
TZNAME:CEST
DTSTART:20230326T010000
END:DAYLIGHT
BEGIN:STANDARD
TZOFFSETFROM:+0200
TZOFFSETTO:+0100
TZNAME:CET
DTSTART:20231029T010000
END:STANDARD
BEGIN:DAYLIGHT
TZOFFSETFROM:+0100
TZOFFSETTO:+0200
TZNAME:CEST
DTSTART:20240331T010000
END:DAYLIGHT
BEGIN:STANDARD
TZOFFSETFROM:+0200
TZOFFSETTO:+0100
TZNAME:CET
DTSTART:20241027T010000
END:STANDARD
BEGIN:DAYLIGHT
TZOFFSETFROM:+0100
TZOFFSETTO:+0200
TZNAME:CEST
DTSTART:20250330T010000
END:DAYLIGHT
BEGIN:STANDARD
TZOFFSETFROM:+0200
TZOFFSETTO:+0100
TZNAME:CET
DTSTART:20251026T010000
END:STANDARD
END:VTIMEZONE
BEGIN:VTIMEZONE
TZID:UTC
BEGIN:STANDARD
TZOFFSETFROM:+0000
TZOFFSETTO:+0000
TZNAME:UTC
DTSTART:20220101T000000
END:STANDARD
END:VTIMEZONE
BEGIN:VEVENT
DTSTART;TZID=Europe/Paris:20240131T190000
DTEND;TZID=Europe/Paris:20240131T220000
DTSTAMP:20260423T151651
CREATED:20240126T154851Z
LAST-MODIFIED:20240126T154851Z
UID:2579-1706727600-1706738400@dawnpatrolgolf.co.uk
SUMMARY:Kingsdown AGM
DESCRIPTION:
URL:https://dawnpatrolgolf.co.uk/event/kingsdown-agm/
CATEGORIES:General
ATTACH;FMTTYPE=image/jpeg:https://dawnpatrolgolf.co.uk/wp-content/uploads/2023/06/DP2.jpg
END:VEVENT
BEGIN:VEVENT
DTSTART;TZID=UTC:20231222T081200
DTEND;TZID=UTC:20231222T160000
DTSTAMP:20260423T151651
CREATED:20230711T043658Z
LAST-MODIFIED:20231202T180915Z
UID:1337-1703232720-1703260800@dawnpatrolgolf.co.uk
SUMMARY:Dawn Patrol Christmas Comp & Lunch
DESCRIPTION:Update from Kevin 1st December 2023\nHi Guys \nThis morning the draw was conducted for our very own Xmas Comp\, to be played on Friday 22nd December. Here are the 3 balls as drawn: \n8.04am Paul Stephen; Larry St. Croix; Nigel Hodgson \n8.12am Steve Haresnape; Martin Taylor; Tim Tayler \n8.20am Crispin Read; Ken Robinson; Tim Pearce \n8.28am Phil Back; Mick North; Keith Bultitude \n8.36am Rod Bird; Paul Steer; Stuart Clarke \n8.44am Alex Fogwill; Bob Damberg; Arthur Noble \n8.52am Rich Talbot; Charley Gerty; Phil Smith \n9.00am Andy Carnohan; Martin Coles; Alex Annal \n9.08am Ben Taylor; Bob Pippett; Robin Dickinson \n9.16am Tom Roberton; Kevin Wilford; Charles Freeman \n9.24am Darren Buss; Kevin Campbell; Dave New \n9.32am Dev Jathoul; Trevor George; Terry Bishop. \nSince it only gets light around our first tee time\, I am assuming we may struggle to get off any earlier than 8.04am. However if you can be at the club 20-30 minutes before your slot\, we will see if we can “beat the clock” \nIf any of you cannot play\, can you please let Alex or myself know as we have 3 able and willing reserves. \nThe format will be Bowmaker 2 from 3 to count and to include the famous yellow ball (don’t lose it) to count double. \nHandicaps will be restricted to max 28 and playing handicaps will be 90% of club handicap or 28 whichever is the lower. \nThere will also be a couple of nearest the pins and nearest the flag on second shot. \nAs always we are on a tight deadline to get all 36 players round and back in for lunch around 1.30-2pm. Could we please therefore ask all teams to keep up with the group in front. \nMany thanks and enjoy the day \nKevin\, Alex\, Martin and Rod \nChristmas 2022\n        \nPhotos by Larry St Croix
URL:https://dawnpatrolgolf.co.uk/event/dawn-patrol-christmas-comp-christmas-lunch/
LOCATION:Kingsdown\, Corsham\, SN13 8BS\, United Kingdom
CATEGORIES:General
ATTACH;FMTTYPE=image/jpeg:https://dawnpatrolgolf.co.uk/wp-content/uploads/2023/07/Kingsdown-Dec-2022.jpg
ORGANIZER;CN="Kevin Wilford":MAILTO:kevinjwilford@hotmail.com
END:VEVENT
BEGIN:VEVENT
DTSTART;TZID=Europe/Paris:20231215T190000
DTEND;TZID=Europe/Paris:20231215T235900
DTSTAMP:20260423T151651
CREATED:20231008T110205Z
LAST-MODIFIED:20231008T110327Z
UID:1906-1702666800-1702684740@dawnpatrolgolf.co.uk
SUMMARY:Dawn Patrol Christmas Dinner
DESCRIPTION:Dev Jathoul has made an announcement suggesting a revival of the Dawn Patrol Christmas Dinner/Party to include Members\, Wives and Partners. \nThe event will take place on Friday 15 December at the Leigh Park Country House Hotel\, near Bradford-On-Avon from 7:00pm to 12:pm during which a 3-course meal will be served (see attached menu) with entertainment provided at a cost of £42.50 per head with a £10 deposit required per person. \nDetails will be posted on the notice board with a provision to apply your full name plus the full name of anyone who you will be inviting and to select a choice from the menu (starters\, main and dessert). \nPlease inform Dev Jathol or Larry St Croix if there are any special dietary requirements. \nThe hotel has reserved a number of rooms for anyone who wishes to stay over. A special price has been offered of £99.00 per double room with breakfast. \nTo book a room you can contact the hotel direct stating the event ‘Dawn Patrol Christmas Dinner’ alternatively contact Dev Jathol or Larry St Croix to assist. The contact details of the hotel are as follows: \nLeigh Park Country House hotel & Vineyard \nLeigh Road West \nBradford-On-Avon\, \nWiltshire \nBA15 2RA \nTel: 01225 864885 \nIt is hoped that members will support this event which was always very well attended and enjoyed by all. \nFurther notices will be placed on the notice board. \nDev Jathol & Larry St Croix
URL:https://dawnpatrolgolf.co.uk/event/dawn-patrol-christmas-dinner/
CATEGORIES:General
ATTACH;FMTTYPE=image/jpeg:https://dawnpatrolgolf.co.uk/wp-content/uploads/2023/10/Christmas-Dinner-3-1.jpg
END:VEVENT
BEGIN:VEVENT
DTSTART;TZID=Europe/Paris:20231103T080000
DTEND;TZID=Europe/Paris:20231103T120000
DTSTAMP:20260423T151651
CREATED:20231019T114750Z
LAST-MODIFIED:20231019T114750Z
UID:1932-1698998400-1699012800@dawnpatrolgolf.co.uk
SUMMARY:Charity Day Friday
DESCRIPTION:Apologies for hijacking the Dawn Patrol on the above date but it’s for a very worthy cause. Wiltshire Air Ambulance.\nI have put up posters in the clubhouse giving full details of the day.\nIf your not able to play on the day. Raffle tickets will be on sale behind the from this Friday. \nMany Thanks\nTom Roberton
URL:https://dawnpatrolgolf.co.uk/event/charity-day-friday/
CATEGORIES:General
ATTACH;FMTTYPE=image/jpeg:https://dawnpatrolgolf.co.uk/wp-content/uploads/2023/10/Wiltshire-Air-Ambulance.jpg
END:VEVENT
BEGIN:VEVENT
DTSTART;TZID=UTC:20230818T080000
DTEND;TZID=UTC:20230818T170000
DTSTAMP:20260423T151651
CREATED:20230715T122315Z
LAST-MODIFIED:20230715T122315Z
UID:1426-1692345600-1692378000@dawnpatrolgolf.co.uk
SUMMARY:S.O.S Kit Aid Day - Course closed during DP playing time
DESCRIPTION:Friday 18th August is Kit Aid Day and the Kingsdown course will be closed during our normal playing times. I would advise that DP members might want to consider booking reciprocal courses for that day. \nSteve H
URL:https://dawnpatrolgolf.co.uk/event/s-o-s-kit-aid-day-course-closed-during-dp-playing-time/
LOCATION:Kingsdown\, Corsham\, SN13 8BS\, United Kingdom
CATEGORIES:General
ATTACH;FMTTYPE=image/jpeg:https://dawnpatrolgolf.co.uk/wp-content/uploads/2023/07/Course-Main-scaled.jpg
END:VEVENT
END:VCALENDAR