BEGIN:VCALENDAR
VERSION:2.0
PRODID:-//Dawn Patrol - ECPv6.15.20//NONSGML v1.0//EN
CALSCALE:GREGORIAN
METHOD:PUBLISH
X-WR-CALNAME:Dawn Patrol
X-ORIGINAL-URL:https://dawnpatrolgolf.co.uk
X-WR-CALDESC:Events for Dawn Patrol
REFRESH-INTERVAL;VALUE=DURATION:PT1H
X-Robots-Tag:noindex
X-PUBLISHED-TTL:PT1H
BEGIN:VTIMEZONE
TZID:UTC
BEGIN:STANDARD
TZOFFSETFROM:+0000
TZOFFSETTO:+0000
TZNAME:UTC
DTSTART:20230101T000000
END:STANDARD
END:VTIMEZONE
BEGIN:VTIMEZONE
TZID:Europe/Paris
BEGIN:DAYLIGHT
TZOFFSETFROM:+0100
TZOFFSETTO:+0200
TZNAME:CEST
DTSTART:20220327T010000
END:DAYLIGHT
BEGIN:STANDARD
TZOFFSETFROM:+0200
TZOFFSETTO:+0100
TZNAME:CET
DTSTART:20221030T010000
END:STANDARD
BEGIN:DAYLIGHT
TZOFFSETFROM:+0100
TZOFFSETTO:+0200
TZNAME:CEST
DTSTART:20230326T010000
END:DAYLIGHT
BEGIN:STANDARD
TZOFFSETFROM:+0200
TZOFFSETTO:+0100
TZNAME:CET
DTSTART:20231029T010000
END:STANDARD
BEGIN:DAYLIGHT
TZOFFSETFROM:+0100
TZOFFSETTO:+0200
TZNAME:CEST
DTSTART:20240331T010000
END:DAYLIGHT
BEGIN:STANDARD
TZOFFSETFROM:+0200
TZOFFSETTO:+0100
TZNAME:CET
DTSTART:20241027T010000
END:STANDARD
BEGIN:DAYLIGHT
TZOFFSETFROM:+0100
TZOFFSETTO:+0200
TZNAME:CEST
DTSTART:20250330T010000
END:DAYLIGHT
BEGIN:STANDARD
TZOFFSETFROM:+0200
TZOFFSETTO:+0100
TZNAME:CET
DTSTART:20251026T010000
END:STANDARD
END:VTIMEZONE
BEGIN:VEVENT
DTSTART;TZID=UTC:20240626T050000
DTEND;TZID=UTC:20240626T090000
DTSTAMP:20260422T081506
CREATED:20240311T162157Z
LAST-MODIFIED:20240311T170459Z
UID:2901-1719378000-1719392400@dawnpatrolgolf.co.uk
SUMMARY:Seniors Dawn Chorus
DESCRIPTION:
URL:https://dawnpatrolgolf.co.uk/event/seniors-dawn-chorus/
CATEGORIES:Competition
ATTACH;FMTTYPE=image/jpeg:https://dawnpatrolgolf.co.uk/wp-content/uploads/2023/10/General-Golf-scaled.jpg
END:VEVENT
BEGIN:VEVENT
DTSTART;TZID=Europe/Paris:20240605T080000
DTEND;TZID=Europe/Paris:20240605T170000
DTSTAMP:20260422T081506
CREATED:20240118T145622Z
LAST-MODIFIED:20240118T145822Z
UID:2506-1717574400-1717606800@dawnpatrolgolf.co.uk
SUMMARY:Seniors Open
DESCRIPTION:
URL:https://dawnpatrolgolf.co.uk/event/seniors-open/
CATEGORIES:Competition
ATTACH;FMTTYPE=image/jpeg:https://dawnpatrolgolf.co.uk/wp-content/uploads/2023/10/General-Golf-scaled.jpg
END:VEVENT
BEGIN:VEVENT
DTSTART;TZID=UTC:20240531T080000
DTEND;TZID=UTC:20240531T170000
DTSTAMP:20260422T081506
CREATED:20240311T162052Z
LAST-MODIFIED:20240311T162521Z
UID:2899-1717142400-1717174800@dawnpatrolgolf.co.uk
SUMMARY:Seniors May Medal
DESCRIPTION:
URL:https://dawnpatrolgolf.co.uk/event/seniors-may-medal/
CATEGORIES:Competition
ATTACH;FMTTYPE=image/jpeg:https://dawnpatrolgolf.co.uk/wp-content/uploads/2023/10/General-Golf-scaled.jpg
END:VEVENT
BEGIN:VEVENT
DTSTART;TZID=Europe/Paris:20240510T080000
DTEND;TZID=Europe/Paris:20240510T170000
DTSTAMP:20260422T081506
CREATED:20240119T091149Z
LAST-MODIFIED:20240311T162937Z
UID:2538-1715328000-1715360400@dawnpatrolgolf.co.uk
SUMMARY:JC Trophy (John Cowie) followed by a snack
DESCRIPTION:A date for the diary\, we have provisionally organised the JC (John Cowie) Trophy for Friday 10th May with a snack afterwards. \nFor those unfamiliar with John\, he was among the founding members of the Dawn Patrol\, characterised by a terrific sense of humour and wit. He was our original compere for the DP Xmas meal and started the whole idea of issuing presents to those unfortunates to be in his firing line. His wife\, Kathleen usually honours us with her presence and awards presents the trophy to the winner. Last year it went to Alex Fogwill. \nAll DP Members are invited to play\, whether you knew John or not and the list will be posted on Notice Board nearer the time.
URL:https://dawnpatrolgolf.co.uk/event/jc-trophy-john-cowie-followed-by-a-snack/
CATEGORIES:Competition,Social Event
ATTACH;FMTTYPE=image/jpeg:https://dawnpatrolgolf.co.uk/wp-content/uploads/2023/10/General-Golf-scaled.jpg
END:VEVENT
BEGIN:VEVENT
DTSTART;TZID=UTC:20240508T080000
DTEND;TZID=UTC:20240508T170000
DTSTAMP:20260422T081506
CREATED:20240311T161946Z
LAST-MODIFIED:20240311T162458Z
UID:2897-1715155200-1715187600@dawnpatrolgolf.co.uk
SUMMARY:Seniors Nine Hole Qualifier
DESCRIPTION:
URL:https://dawnpatrolgolf.co.uk/event/seniors-nine-hole-qualifier/
CATEGORIES:Competition
ATTACH;FMTTYPE=image/jpeg:https://dawnpatrolgolf.co.uk/wp-content/uploads/2023/10/General-Golf-scaled.jpg
END:VEVENT
BEGIN:VEVENT
DTSTART;TZID=UTC:20240322T080000
DTEND;TZID=UTC:20240322T170000
DTSTAMP:20260422T081506
CREATED:20240311T161317Z
LAST-MODIFIED:20240311T162247Z
UID:2889-1711094400-1711126800@dawnpatrolgolf.co.uk
SUMMARY:Seniors Sloper Trophy (Qualifier)
DESCRIPTION:
URL:https://dawnpatrolgolf.co.uk/event/seniors-sloper-trophy-qualifier/
CATEGORIES:Competition
ATTACH;FMTTYPE=image/jpeg:https://dawnpatrolgolf.co.uk/wp-content/uploads/2023/10/General-Golf-scaled.jpg
END:VEVENT
BEGIN:VEVENT
DTSTART;TZID=Europe/Paris:20231215T084400
DTEND;TZID=Europe/Paris:20231215T143000
DTSTAMP:20260422T081506
CREATED:20231128T142942Z
LAST-MODIFIED:20231128T144227Z
UID:2078-1702629840-1702650600@dawnpatrolgolf.co.uk
SUMMARY:Seniors Christmas Spirit
DESCRIPTION:This year’s Christmas Spirit is scheduled for Friday 15th December. \nA non-qualifying 85% Handicap Stableford Rumble (2 of 3 scores to count) Competition open to entry group All Senior male Members to be played from the Winter Yellow tees.\nAfterwards there will be Mince Pies and Mulled Wine for all\, and the presentation of the prizes. \nTeams of three will be drawn from the entry list\, and will be seeded from low\, middle\, and high handicaps.\nI have placed an entry sheet on the notice board for you to add your names.\nEntry fee is £3/person\, please pay by Bank Transfer or Cash in the competitions box.\nWe are limited to 10 tee times on the day so the first 30 entrants on the list will be entered into the draw any others will be put on a reserves list.
URL:https://dawnpatrolgolf.co.uk/event/seniors-christmas-spirt/
LOCATION:Kingsdown\, Corsham\, SN13 8BS\, United Kingdom
CATEGORIES:Competition
ATTACH;FMTTYPE=image/png:https://dawnpatrolgolf.co.uk/wp-content/uploads/2023/11/Seniors-Christmas-Spirit.png
END:VEVENT
END:VCALENDAR